BEGIN:VCALENDAR
VERSION:2.0
PRODID:-////NONSGML kigkonsult.se iCalcreator 2.22//
X-WR-CALNAME:Mein Kalender bei 'Stressfrei'
X-WR-CALDESC:Der iCal-Feed wurde automatisch erstellt von EQDKP-PLUS
X-WR-TIMEZONE:Europe/Berlin
BEGIN:VTIMEZONE
TZID:Europe/Berlin
X-LIC-LOCATION:Europe/Berlin
BEGIN:STANDARD
DTSTART:20251026T030000
TZOFFSETFROM:+0200
TZOFFSETTO:+0100
RDATE:20261025T030000
TZNAME:CET
END:STANDARD
BEGIN:DAYLIGHT
DTSTART:20260329T020000
TZOFFSETFROM:+0100
TZOFFSETTO:+0200
RDATE:20270328T020000
TZNAME:CEST
END:DAYLIGHT
END:VTIMEZONE
BEGIN:VEVENT
UID:20260421T123843UTC-9573iDUV2v@85.214.169.115
DTSTAMP:20260421T123843Z
CATEGORIES:PERSONAL
CLASS:PUBLIC
DESCRIPTION:[size= 20pt][b]Bitte vermerken von wann bis wann ihr könnt. [/b
 ][/size]\n\n \n\n[i][size= 10pt]Langsam rantasten\, ini´s kennen lernen![/
 size][/i]\n\n[i][size= 10pt]M+ ist reine Übung\, daher fangen wir langsam 
 an und steigern uns.[/size][/i]
DTSTART:20250808T180000Z
DTEND:20250808T210000Z
SUMMARY:Dungeon M+
END:VEVENT
END:VCALENDAR
